BEGIN:VCALENDAR
VERSION:2.0
PRODID:-//Katherine High School - ECPv4.6.14.1//NONSGML v1.0//EN
CALSCALE:GREGORIAN
METHOD:PUBLISH
X-WR-CALNAME:Katherine High School
X-ORIGINAL-URL:http://staging.katherinehighschool.com.au
X-WR-CALDESC:Events for Katherine High School
BEGIN:VEVENT
DTSTART;TZID=UTC+0:20180219T000000
DTEND;TZID=UTC+0:20180618T000000
DTSTAMP:20200229T112150
CREATED:20180417T165445Z
LAST-MODIFIED:20180417T165445Z
UID:1064-1518998400-1529280000@staging.katherinehighschool.com.au
SUMMARY:Moto Scouts
DESCRIPTION:
URL:http://staging.katherinehighschool.com.au/event/moto-scouts/
END:VEVENT
BEGIN:VEVENT
DTSTART;TZID=UTC+0:20180528T000000
DTEND;TZID=UTC+0:20180601T000000
DTSTAMP:20200229T112150
CREATED:20180417T165450Z
LAST-MODIFIED:20180417T165450Z
UID:1099-1527465600-1527811200@staging.katherinehighschool.com.au
SUMMARY:Term 2 Week 6
DESCRIPTION:
URL:http://staging.katherinehighschool.com.au/event/term-2-week-6/
END:VEVENT
END:VCALENDAR